Workbook
Name Fonds: 'Drop Down'!$O$2
Name GKG: 'Drop Down'!$M$2:$M$6
Name Rk_KG: 'Drop Down'!$I$2:$I$37

Sheet Stundennachweis_Abrechnung
A1: Abrechnungsnachweis kirchenmusikalischer Tätigkeiten und Stundennachweis nach Mindestlohngesetz | K1: Version 6.2 / ab Januar 2026
A3: Arbeitnehmer/in: | F3: Abrechnungszeitraum (Kalendermonat/Jahr) | K3: Hinweis: Das Formular ist am Monatsende bei der zuständigen personalverwaltenden Dienststelle einzureichen.
A5: Einstufung/ Entgeltsatz nach Entgeltstufe
A7: Arbeitgeber: | B7: Römisch-katholische Kirchengemeinde | F7: Breisgau-Markgräflerland
A9: Dokumentation: Arbeitszeit nach MiLoG | E9: Abrechnungsrelevante Daten | H9: Fahrtkostenzuschuss | L9: Berechnung des Entgelts
A10: Datum | B10: Beginn | C10: Ende | D10: Arbeitszeit abzüglich Pausen (in Stunden: Minuten) | E10: 1) Anlass / Gottesdienst und | F10: Tätigkeit | G10: 2) Chorproben / sonstige Tätigkeiten | H10: nur sofern im begründeten Ausnahmefall vertraglich vereinbart | L10: Vergütungs-satz | M10: Vergütungs-satz sonstige Tätigkeiten | N10: Summe
H11: Kilometer Wegstrecke KFZ | I11: Fahrtkosten-ersatz ÖPNV | J11: Hilfsspalte Fahrtkosten | K11: Dienstort
J12: =ROUND(IF(AND(H12<=5,I12=""),MIN(11,I12*1),MIN(H12*0.3+I12,11)),2) -> 0 | L12: {=IF(ISNA(INDEX(Datentabelle!A:O,MATCH(E12&F12,Datentabelle!A:A&Datentabelle!B:B,0),MATCH($B$5,Datentabelle!$A$1:$O$1,0))),0,INDEX(Datentabelle!A:O,MATCH(E12&F12,Datentabelle!A:A&Datentabelle!B:B,0),MATCH($B$5,Datentabelle!$A$1:$O$1,0)))} -> 0 | M12: {=IF(ISNA(INDEX(Datentabelle!T:AG,MATCH(Stundennachweis_Abrechnung!G12,Datentabelle!T:T,0),MATCH(Stundennachweis_Abrechnung!$B$5,Datentabelle!$T$1:$AG$1,0))),0,INDEX(Datentabelle!T:AG,MATCH(Stundennachweis_Abrechnung!G12,Datentabelle!T:T,0),MATCH(Stundennachweis_Abrechnung!$B$5,Datentabelle!$T$1:$AG$1,0)))} -> 0 | N12: =ROUND(L12+IF(G12='Drop Down'!$E$14,M12*((D12-INT(D12))*24),Stundennachweis_Abrechnung!M12),2) -> 0
J13: =ROUND(IF(AND(H13<=5,I13=""),MIN(11,I13*1),MIN(H13*0.3+I13,11)),2) -> 0 | L13: {=IF(ISNA(INDEX(Datentabelle!A:O,MATCH(E13&F13,Datentabelle!A:A&Datentabelle!B:B,0),MATCH($B$5,Datentabelle!$A$1:$O$1,0))),0,INDEX(Datentabelle!A:O,MATCH(E13&F13,Datentabelle!A:A&Datentabelle!B:B,0),MATCH($B$5,Datentabelle!$A$1:$O$1,0)))} -> 0 | M13: {=IF(ISNA(INDEX(Datentabelle!T:AG,MATCH(Stundennachweis_Abrechnung!G13,Datentabelle!T:T,0),MATCH(Stundennachweis_Abrechnung!$B$5,Datentabelle!$T$1:$AG$1,0))),0,INDEX(Datentabelle!T:AG,MATCH(Stundennachweis_Abrechnung!G13,Datentabelle!T:T,0),MATCH(Stundennachweis_Abrechnung!$B$5,Datentabelle!$T$1:$AG$1,0)))} -> 0 | N13: =ROUND(L13+IF(G13='Drop Down'!$E$14,M13*((D13-INT(D13))*24),Stundennachweis_Abrechnung!M13),2) -> 0
J14: =ROUND(IF(AND(H14<=5,I14=""),MIN(11,I14*1),MIN(H14*0.3+I14,11)),2) -> 0 | L14: {=IF(ISNA(INDEX(Datentabelle!A:O,MATCH(E14&F14,Datentabelle!A:A&Datentabelle!B:B,0),MATCH($B$5,Datentabelle!$A$1:$O$1,0))),0,INDEX(Datentabelle!A:O,MATCH(E14&F14,Datentabelle!A:A&Datentabelle!B:B,0),MATCH($B$5,Datentabelle!$A$1:$O$1,0)))} -> 0 | M14: {=IF(ISNA(INDEX(Datentabelle!T:AG,MATCH(Stundennachweis_Abrechnung!G14,Datentabelle!T:T,0),MATCH(Stundennachweis_Abrechnung!$B$5,Datentabelle!$T$1:$AG$1,0))),0,INDEX(Datentabelle!T:AG,MATCH(Stundennachweis_Abrechnung!G14,Datentabelle!T:T,0),MATCH(Stundennachweis_Abrechnung!$B$5,Datentabelle!$T$1:$AG$1,0)))} -> 0 | N14: =ROUND(L14+IF(G14='Drop Down'!$E$14,M14*((D14-INT(D14))*24),Stundennachweis_Abrechnung!M14),2) -> 0
J15: =ROUND(IF(AND(H15<=5,I15=""),MIN(11,I15*1),MIN(H15*0.3+I15,11)),2) -> 0 | L15: {=IF(ISNA(INDEX(Datentabelle!A:O,MATCH(E15&F15,Datentabelle!A:A&Datentabelle!B:B,0),MATCH($B$5,Datentabelle!$A$1:$O$1,0))),0,INDEX(Datentabelle!A:O,MATCH(E15&F15,Datentabelle!A:A&Datentabelle!B:B,0),MATCH($B$5,Datentabelle!$A$1:$O$1,0)))} -> 0 | M15: {=IF(ISNA(INDEX(Datentabelle!T:AG,MATCH(Stundennachweis_Abrechnung!G15,Datentabelle!T:T,0),MATCH(Stundennachweis_Abrechnung!$B$5,Datentabelle!$T$1:$AG$1,0))),0,INDEX(Datentabelle!T:AG,MATCH(Stundennachweis_Abrechnung!G15,Datentabelle!T:T,0),MATCH(Stundennachweis_Abrechnung!$B$5,Datentabelle!$T$1:$AG$1,0)))} -> 0 | N15: =ROUND(L15+IF(G15='Drop Down'!$E$14,M15*((D15-INT(D15))*24),Stundennachweis_Abrechnung!M15),2) -> 0
J16: =ROUND(IF(AND(H16<=5,I16=""),MIN(11,I16*1),MIN(H16*0.3+I16,11)),2) -> 0 | L16: {=IF(ISNA(INDEX(Datentabelle!A:O,MATCH(E16&F16,Datentabelle!A:A&Datentabelle!B:B,0),MATCH($B$5,Datentabelle!$A$1:$O$1,0))),0,INDEX(Datentabelle!A:O,MATCH(E16&F16,Datentabelle!A:A&Datentabelle!B:B,0),MATCH($B$5,Datentabelle!$A$1:$O$1,0)))} -> 0 | M16: {=IF(ISNA(INDEX(Datentabelle!T:AG,MATCH(Stundennachweis_Abrechnung!G16,Datentabelle!T:T,0),MATCH(Stundennachweis_Abrechnung!$B$5,Datentabelle!$T$1:$AG$1,0))),0,INDEX(Datentabelle!T:AG,MATCH(Stundennachweis_Abrechnung!G16,Datentabelle!T:T,0),MATCH(Stundennachweis_Abrechnung!$B$5,Datentabelle!$T$1:$AG$1,0)))} -> 0 | N16: =ROUND(L16+IF(G16='Drop Down'!$E$14,M16*((D16-INT(D16))*24),Stundennachweis_Abrechnung!M16),2) -> 0
J17: =ROUND(IF(AND(H17<=5,I17=""),MIN(11,I17*1),MIN(H17*0.3+I17,11)),2) -> 0 | L17: {=IF(ISNA(INDEX(Datentabelle!A:O,MATCH(E17&F17,Datentabelle!A:A&Datentabelle!B:B,0),MATCH($B$5,Datentabelle!$A$1:$O$1,0))),0,INDEX(Datentabelle!A:O,MATCH(E17&F17,Datentabelle!A:A&Datentabelle!B:B,0),MATCH($B$5,Datentabelle!$A$1:$O$1,0)))} -> 0 | M17: {=IF(ISNA(INDEX(Datentabelle!T:AG,MATCH(Stundennachweis_Abrechnung!G17,Datentabelle!T:T,0),MATCH(Stundennachweis_Abrechnung!$B$5,Datentabelle!$T$1:$AG$1,0))),0,INDEX(Datentabelle!T:AG,MATCH(Stundennachweis_Abrechnung!G17,Datentabelle!T:T,0),MATCH(Stundennachweis_Abrechnung!$B$5,Datentabelle!$T$1:$AG$1,0)))} -> 0 | N17: =ROUND(L17+IF(G17='Drop Down'!$E$14,M17*((D17-INT(D17))*24),Stundennachweis_Abrechnung!M17),2) -> 0
J18: =ROUND(IF(AND(H18<=5,I18=""),MIN(11,I18*1),MIN(H18*0.3+I18,11)),2) -> 0 | L18: {=IF(ISNA(INDEX(Datentabelle!A:O,MATCH(E18&F18,Datentabelle!A:A&Datentabelle!B:B,0),MATCH($B$5,Datentabelle!$A$1:$O$1,0))),0,INDEX(Datentabelle!A:O,MATCH(E18&F18,Datentabelle!A:A&Datentabelle!B:B,0),MATCH($B$5,Datentabelle!$A$1:$O$1,0)))} -> 0 | M18: {=IF(ISNA(INDEX(Datentabelle!T:AG,MATCH(Stundennachweis_Abrechnung!G18,Datentabelle!T:T,0),MATCH(Stundennachweis_Abrechnung!$B$5,Datentabelle!$T$1:$AG$1,0))),0,INDEX(Datentabelle!T:AG,MATCH(Stundennachweis_Abrechnung!G18,Datentabelle!T:T,0),MATCH(Stundennachweis_Abrechnung!$B$5,Datentabelle!$T$1:$AG$1,0)))} -> 0 | N18: =ROUND(L18+IF(G18='Drop Down'!$E$14,M18*((D18-INT(D18))*24),Stundennachweis_Abrechnung!M18),2) -> 0
J19: =ROUND(IF(AND(H19<=5,I19=""),MIN(11,I19*1),MIN(H19*0.3+I19,11)),2) -> 0 | L19: {=IF(ISNA(INDEX(Datentabelle!A:O,MATCH(E19&F19,Datentabelle!A:A&Datentabelle!B:B,0),MATCH($B$5,Datentabelle!$A$1:$O$1,0))),0,INDEX(Datentabelle!A:O,MATCH(E19&F19,Datentabelle!A:A&Datentabelle!B:B,0),MATCH($B$5,Datentabelle!$A$1:$O$1,0)))} -> 0 | M19: {=IF(ISNA(INDEX(Datentabelle!T:AG,MATCH(Stundennachweis_Abrechnung!G19,Datentabelle!T:T,0),MATCH(Stundennachweis_Abrechnung!$B$5,Datentabelle!$T$1:$AG$1,0))),0,INDEX(Datentabelle!T:AG,MATCH(Stundennachweis_Abrechnung!G19,Datentabelle!T:T,0),MATCH(Stundennachweis_Abrechnung!$B$5,Datentabelle!$T$1:$AG$1,0)))} -> 0 | N19: =ROUND(L19+IF(G19='Drop Down'!$E$14,M19*((D19-INT(D19))*24),Stundennachweis_Abrechnung!M19),2) -> 0
J20: =ROUND(IF(AND(H20<=5,I20=""),MIN(11,I20*1),MIN(H20*0.3+I20,11)),2) -> 0 | L20: {=IF(ISNA(INDEX(Datentabelle!A:O,MATCH(E20&F20,Datentabelle!A:A&Datentabelle!B:B,0),MATCH($B$5,Datentabelle!$A$1:$O$1,0))),0,INDEX(Datentabelle!A:O,MATCH(E20&F20,Datentabelle!A:A&Datentabelle!B:B,0),MATCH($B$5,Datentabelle!$A$1:$O$1,0)))} -> 0 | M20: {=IF(ISNA(INDEX(Datentabelle!T:AG,MATCH(Stundennachweis_Abrechnung!G20,Datentabelle!T:T,0),MATCH(Stundennachweis_Abrechnung!$B$5,Datentabelle!$T$1:$AG$1,0))),0,INDEX(Datentabelle!T:AG,MATCH(Stundennachweis_Abrechnung!G20,Datentabelle!T:T,0),MATCH(Stundennachweis_Abrechnung!$B$5,Datentabelle!$T$1:$AG$1,0)))} -> 0 | N20: =ROUND(L20+IF(G20='Drop Down'!$E$14,M20*((D20-INT(D20))*24),Stundennachweis_Abrechnung!M20),2) -> 0
J21: =ROUND(IF(AND(H21<=5,I21=""),MIN(11,I21*1),MIN(H21*0.3+I21,11)),2) -> 0 | L21: {=IF(ISNA(INDEX(Datentabelle!A:O,MATCH(E21&F21,Datentabelle!A:A&Datentabelle!B:B,0),MATCH($B$5,Datentabelle!$A$1:$O$1,0))),0,INDEX(Datentabelle!A:O,MATCH(E21&F21,Datentabelle!A:A&Datentabelle!B:B,0),MATCH($B$5,Datentabelle!$A$1:$O$1,0)))} -> 0 | M21: {=IF(ISNA(INDEX(Datentabelle!T:AG,MATCH(Stundennachweis_Abrechnung!G21,Datentabelle!T:T,0),MATCH(Stundennachweis_Abrechnung!$B$5,Datentabelle!$T$1:$AG$1,0))),0,INDEX(Datentabelle!T:AG,MATCH(Stundennachweis_Abrechnung!G21,Datentabelle!T:T,0),MATCH(Stundennachweis_Abrechnung!$B$5,Datentabelle!$T$1:$AG$1,0)))} -> 0 | N21: =ROUND(L21+IF(G21='Drop Down'!$E$14,M21*((D21-INT(D21))*24),Stundennachweis_Abrechnung!M21),2) -> 0
J22: =ROUND(IF(AND(H22<=5,I22=""),MIN(11,I22*1),MIN(H22*0.3+I22,11)),2) -> 0 | L22: {=IF(ISNA(INDEX(Datentabelle!A:O,MATCH(E22&F22,Datentabelle!A:A&Datentabelle!B:B,0),MATCH($B$5,Datentabelle!$A$1:$O$1,0))),0,INDEX(Datentabelle!A:O,MATCH(E22&F22,Datentabelle!A:A&Datentabelle!B:B,0),MATCH($B$5,Datentabelle!$A$1:$O$1,0)))} -> 0 | M22: {=IF(ISNA(INDEX(Datentabelle!T:AG,MATCH(Stundennachweis_Abrechnung!G22,Datentabelle!T:T,0),MATCH(Stundennachweis_Abrechnung!$B$5,Datentabelle!$T$1:$AG$1,0))),0,INDEX(Datentabelle!T:AG,MATCH(Stundennachweis_Abrechnung!G22,Datentabelle!T:T,0),MATCH(Stundennachweis_Abrechnung!$B$5,Datentabelle!$T$1:$AG$1,0)))} -> 0 | N22: =ROUND(L22+IF(G22='Drop Down'!$E$14,M22*((D22-INT(D22))*24),Stundennachweis_Abrechnung!M22),2) -> 0
G23: Summe Fahrtkostenzuschuss: | H23: =SUM(J12:J22) -> 0 | L23: Summe Entgelt: | N23: =SUM(N12:N22) -> 0
A27: Datum | D27: Unterschrift Kirchenmusiker/-in | G27: Datum | I27: Unterschrift Sachbearbeiter/-in
A31: Datum | D31: Unterschrift Anordnungsberechtigte/-r

Sheet Datentabelle
A1: Anlass Gottesdienst | B1: Tätigkeit | C1: DE | D1: A | E1: B+50% (Besitzstand gem. § 16 Abs. 2 Anlage 4f zur AVO) | F1: B | G1: 90%B | H1: C+50% (Besitzstand gem. § 16 Abs. 2 Anlage 4f zur AVO) | I1: 80%B | J1: C | K1: D+50% (Besitzstand gem. § 16 Abs. 2 Anlage 4f zur AVO) | L1: 95%C | M1: D | N1: B (Besitzstand gem. § 16 Abs. 1 Anlage 4f zur AVO) | O1: 90%B (Besitzstand nach § 16 Abs. 2 Anlage 4f zur AVO) | T1: sonstige Tätigkeit | U1: Diensteinheiten | V1: A | W1: B+50% (Besitzstand gem. § 16 Abs. 2 Anlage 4f zur AVO) | X1: B | Y1: 90%B | Z1: C+50% (Besitzstand gem. § 16 Abs. 2 Anlage 4f zur AVO) | AA1: 80%B | AB1: C | AC1: D+50% (Besitzstand gem. § 16 Abs. 2 Anlage 4f zur AVO) | AD1: 95%C | AE1: D | AF1: B (Besitzstand gem. § 16 Abs. 1 Anlage 4f zur AVO) | AG1: 90%B (Besitzstand nach § 16 Abs. 2 Anlage 4f zur AVO)
A2: Gottesdienste an Sonntagen (einschl. Vorabend) und Feiertagen | B2: Orgelspiel | C2: 1 | D2: 66.38 | E2: =ROUND(F2+(D2-F2)*0.5,2) -> 61.21 | F2: 56.03 | G2: =ROUND(0.9*F2,2) -> 50.43 | H2: =ROUND(J2+(F2-J2)*0.5,2) -> 49.31 | I2: =ROUND(0.8*F2,2) -> 44.82 | J2: 42.58 | K2: =ROUND(M2+(J2-M2)*0.5,2) -> 41.13 | L2: =ROUND(0.95*J2,2) -> 40.45 | M2: 39.67 | N2: 56.03 | O2: =ROUND(0.9*N2,2) -> 50.43 | T2: Chorprobe/Ensembleprobe bis einschl. 60 min | U2: 1 | V2: 66.38 | W2: =ROUND(X2+(V2-X2)*0.5,2) -> 61.21 | X2: 56.03 | Y2: =ROUND(0.9*X2,2) -> 50.43 | Z2: =ROUND(AB2+(X2-AB2)*0.5,2) -> 49.31 | AA2: =ROUND(0.8*X2,2) -> 44.82 | AB2: 42.58 | AC2: =ROUND(AE2+(AB2-AE2)*0.5,2) -> 41.13 | AD2: =ROUND(0.95*AB2,2) -> 40.45 | AE2: 39.67 | AF2: 56.03 | AG2: =ROUND(0.9*AF2,2) -> 50.43
A3: Gottesdienste an Sonntagen (einschl. Vorabend) und Feiertagen | B3: Chorleitung (mit Einsingen) | C3: 1.5 | D3: 99.58 | E3: =ROUND(F3+(D3-F3)*0.5,2) -> 91.82 | F3: 84.05 | G3: =ROUND(0.9*F3,2) -> 75.65 | H3: =ROUND(J3+(F3-J3)*0.5,2) -> 73.97 | I3: =ROUND(0.8*F3,2) -> 67.24 | J3: 63.88 | K3: =ROUND(M3+(J3-M3)*0.5,2) -> 61.69 | L3: =ROUND(0.95*J3,2) -> 60.69 | M3: 59.5 | N3: 84.05 | O3: =ROUND(0.9*N3,2) -> 75.65 | T3: Chorprobe/Ensembleprobe bis einschl. 90 min | U3: 1.5 | V3: 99.58 | W3: =ROUND(X3+(V3-X3)*0.5,2) -> 91.82 | X3: 84.05 | Y3: =ROUND(0.9*X3,2) -> 75.65 | Z3: =ROUND(AB3+(X3-AB3)*0.5,2) -> 73.97 | AA3: =ROUND(0.8*X3,2) -> 67.24 | AB3: 63.88 | AC3: =ROUND(AE3+(AB3-AE3)*0.5,2) -> 61.69 | AD3: =ROUND(0.95*AB3,2) -> 60.69 | AE3: 59.5 | AF3: 84.05 | AG3: =ROUND(0.9*AF3,2) -> 75.65
A4: Gottesdienste an Sonntagen (einschl. Vorabend) und Feiertagen | B4: Orgelspiel und Chorleitung (mit Einsingen) | C4: 1.5 | D4: 99.58 | E4: =ROUND(F4+(D4-F4)*0.5,2) -> 91.82 | F4: 84.05 | G4: =ROUND(0.9*F4,2) -> 75.65 | H4: =ROUND(J4+(F4-J4)*0.5,2) -> 73.97 | I4: =ROUND(0.8*F4,2) -> 67.24 | J4: 63.88 | K4: =ROUND(M4+(J4-M4)*0.5,2) -> 61.69 | L4: =ROUND(0.95*J4,2) -> 60.69 | M4: 59.5 | N4: 84.05 | O4: =ROUND(0.9*N4,2) -> 75.65 | T4: Chorprobe/Ensembleprobe bis einschl. 120 min | U4: 2 | V4: 132.77 | W4: =ROUND(X4+(V4-X4)*0.5,2) -> 122.42 | X4: 112.07 | Y4: =ROUND(0.9*X4,2) -> 100.86 | Z4: =ROUND(AB4+(X4-AB4)*0.5,2) -> 98.62 | AA4: =ROUND(0.8*X4,2) -> 89.66 | AB4: 85.17 | AC4: =ROUND(AE4+(AB4-AE4)*0.5,2) -> 82.25 | AD4: =ROUND(0.95*AB4,2) -> 80.91 | AE4: 79.33 | AF4: 112.07 | AG4: =ROUND(0.9*AF4,2) -> 100.86
A5: Werktagsgottesdienst | B5: Orgelspiel | C5: 1 | D5: 66.38 | E5: =ROUND(F5+(D5-F5)*0.5,2) -> 61.21 | F5: 56.03 | G5: =ROUND(0.9*F5,2) -> 50.43 | H5: =ROUND(J5+(F5-J5)*0.5,2) -> 49.31 | I5: =ROUND(0.8*F5,2) -> 44.82 | J5: 42.58 | K5: =ROUND(M5+(J5-M5)*0.5,2) -> 41.13 | L5: =ROUND(0.95*J5,2) -> 40.45 | M5: 39.67 | N5: 56.03 | O5: =ROUND(0.9*N5,2) -> 50.43 | T5: Chorprobe mit Kinder- und Jugendchor bis einschl. 60 min | U5: 1 | V5: 66.38 | W5: =ROUND(X5+(V5-X5)*0.5,2) -> 61.21 | X5: 56.03 | Y5: =ROUND(0.9*X5,2) -> 50.43 | Z5: =ROUND(AB5+(X5-AB5)*0.5,2) -> 49.31 | AA5: =ROUND(0.8*X5,2) -> 44.82 | AB5: 42.58 | AC5: =ROUND(AE5+(AB5-AE5)*0.5,2) -> 41.13 | AD5: =ROUND(0.95*AB5,2) -> 40.45 | AE5: 39.67 | AF5: 56.03 | AG5: =ROUND(0.9*AF5,2) -> 50.43
A6: Werktagsgottesdienst | B6: Chorleitung (mit Einsingen) | C6: 1.5 | D6: 99.58 | E6: =ROUND(F6+(D6-F6)*0.5,2) -> 91.82 | F6: 84.05 | G6: =ROUND(0.9*F6,2) -> 75.65 | H6: =ROUND(J6+(F6-J6)*0.5,2) -> 73.97 | I6: =ROUND(0.8*F6,2) -> 67.24 | J6: 63.88 | K6: =ROUND(M6+(J6-M6)*0.5,2) -> 61.69 | L6: =ROUND(0.95*J6,2) -> 60.69 | M6: 59.5 | N6: 84.05 | O6: =ROUND(0.9*N6,2) -> 75.65 | T6: Chorprobe mit Kinder- und Jugendchor bis einschl. 90 min | U6: 1.5 | V6: 99.58 | W6: =ROUND(X6+(V6-X6)*0.5,2) -> 91.82 | X6: 84.05 | Y6: =ROUND(0.9*X6,2) -> 75.65 | Z6: =ROUND(AB6+(X6-AB6)*0.5,2) -> 73.97 | AA6: =ROUND(0.8*X6,2) -> 67.24 | AB6: 63.88 | AC6: =ROUND(AE6+(AB6-AE6)*0.5,2) -> 61.69 | AD6: =ROUND(0.95*AB6,2) -> 60.69 | AE6: 59.5 | AF6: 84.05 | AG6: =ROUND(0.9*AF6,2) -> 75.65
A7: Werktagsgottesdienst | B7: Orgelspiel und Chorleitung (mit Einsingen) | C7: 1.5 | D7: 99.58 | E7: =ROUND(F7+(D7-F7)*0.5,2) -> 91.82 | F7: 84.05 | G7: =ROUND(0.9*F7,2) -> 75.65 | H7: =ROUND(J7+(F7-J7)*0.5,2) -> 73.97 | I7: =ROUND(0.8*F7,2) -> 67.24 | J7: 63.88 | K7: =ROUND(M7+(J7-M7)*0.5,2) -> 61.69 | L7: =ROUND(0.95*J7,2) -> 60.69 | M7: 59.5 | N7: 84.05 | O7: =ROUND(0.9*N7,2) -> 75.65 | T7: Prozession mit Chorgesang bis einschl. 60 min | U7: 1 | V7: 66.38 | W7: =ROUND(X7+(V7-X7)*0.5,2) -> 61.21 | X7: 56.03 | Y7: =ROUND(0.9*X7,2) -> 50.43 | Z7: =ROUND(AB7+(X7-AB7)*0.5,2) -> 49.31 | AA7: =ROUND(0.8*X7,2) -> 44.82 | AB7: 42.58 | AC7: =ROUND(AE7+(AB7-AE7)*0.5,2) -> 41.13 | AD7: =ROUND(0.95*AB7,2) -> 40.45 | AE7: 39.67 | AF7: 56.03 | AG7: =ROUND(0.9*AF7,2) -> 50.43
A8: Christmette | B8: Orgelspiel | C8: 2 | D8: 132.77 | E8: =ROUND(F8+(D8-F8)*0.5,2) -> 122.42 | F8: 112.07 | G8: =ROUND(0.9*F8,2) -> 100.86 | H8: =ROUND(J8+(F8-J8)*0.5,2) -> 98.62 | I8: =ROUND(0.8*F8,2) -> 89.66 | J8: 85.17 | K8: =ROUND(M8+(J8-M8)*0.5,2) -> 82.25 | L8: =ROUND(0.95*J8,2) -> 80.91 | M8: 79.33 | N8: 112.07 | O8: =ROUND(0.9*N8,2) -> 100.86 | T8: Prozession mit Chorgesang bis einschl. 90 min | U8: 1.5 | V8: 99.58 | W8: =ROUND(X8+(V8-X8)*0.5,2) -> 91.82 | X8: 84.05 | Y8: =ROUND(0.9*X8,2) -> 75.65 | Z8: =ROUND(AB8+(X8-AB8)*0.5,2) -> 73.97 | AA8: =ROUND(0.8*X8,2) -> 67.24 | AB8: 63.88 | AC8: =ROUND(AE8+(AB8-AE8)*0.5,2) -> 61.69 | AD8: =ROUND(0.95*AB8,2) -> 60.69 | AE8: 59.5 | AF8: 84.05 | AG8: =ROUND(0.9*AF8,2) -> 75.65
A9: Christmette | B9: Chorleitung (mit Einsingen) | C9: 2.5 | D9: 165.96 | E9: =ROUND(F9+(D9-F9)*0.5,2) -> 153.02 | F9: 140.08 | G9: =ROUND(0.9*F9,2) -> 126.07 | H9: =ROUND(J9+(F9-J9)*0.5,2) -> 123.27 | I9: =ROUND(0.8*F9,2) -> 112.06 | J9: 106.46 | K9: =ROUND(M9+(J9-M9)*0.5,2) -> 102.82 | L9: =ROUND(0.95*J9,2) -> 101.14 | M9: 99.17 | N9: 140.08 | O9: =ROUND(0.9*N9,2) -> 126.07 | T9: Unterricht bis einschl. 30 min | U9: 0.5 | V9: 33.19 | W9: =ROUND(X9+(V9-X9)*0.5,2) -> 30.61 | X9: 28.02 | Y9: =ROUND(0.9*X9,2) -> 25.22 | Z9: =ROUND(AB9+(X9-AB9)*0.5,2) -> 24.66 | AA9: =ROUND(0.8*X9,2) -> 22.42 | AB9: 21.29 | AC9: =ROUND(AE9+(AB9-AE9)*0.5,2) -> 20.56 | AD9: =ROUND(0.95*AB9,2) -> 20.23 | AE9: 19.83 | AF9: 28.02 | AG9: =ROUND(0.9*AF9,2) -> 25.22
A10: Christmette | B10: Orgelspiel und Chorleitung (mit Einsingen) | C10: 2.5 | D10: 165.96 | E10: =ROUND(F10+(D10-F10)*0.5,2) -> 153.02 | F10: 140.08 | G10: =ROUND(0.9*F10,2) -> 126.07 | H10: =ROUND(J10+(F10-J10)*0.5,2) -> 123.27 | I10: =ROUND(0.8*F10,2) -> 112.06 | J10: 106.46 | K10: =ROUND(M10+(J10-M10)*0.5,2) -> 102.82 | L10: =ROUND(0.95*J10,2) -> 101.14 | M10: 99.17 | N10: 140.08 | O10: =ROUND(0.9*N10,2) -> 126.07 | T10: Unterricht bis einschl. 60 min | U10: 1 | V10: 66.38 | W10: =ROUND(X10+(V10-X10)*0.5,2) -> 61.21 | X10: 56.03 | Y10: =ROUND(0.9*X10,2) -> 50.43 | Z10: =ROUND(AB10+(X10-AB10)*0.5,2) -> 49.31 | AA10: =ROUND(0.8*X10,2) -> 44.82 | AB10: 42.58 | AC10: =ROUND(AE10+(AB10-AE10)*0.5,2) -> 41.13 | AD10: =ROUND(0.95*AB10,2) -> 40.45 | AE10: 39.67 | AF10: 56.03 | AG10: =ROUND(0.9*AF10,2) -> 50.43
A11: Kinderchristmette | B11: Orgelspiel | C11: 1 | D11: 66.38 | E11: =ROUND(F11+(D11-F11)*0.5,2) -> 61.21 | F11: 56.03 | G11: =ROUND(0.9*F11,2) -> 50.43 | H11: =ROUND(J11+(F11-J11)*0.5,2) -> 49.31 | I11: =ROUND(0.8*F11,2) -> 44.82 | J11: 42.58 | K11: =ROUND(M11+(J11-M11)*0.5,2) -> 41.11 | L11: =ROUND(0.95*J11,2) -> 40.45 | M11: 39.64 | N11: 56.03 | O11: =ROUND(0.9*N11,2) -> 50.43 | T11: Konzertdauer bis einschl. 60 Minuten + Einsingen/Einspielen | U11: 1.5 | V11: 99.58 | W11: =ROUND(X11+(V11-X11)*0.5,2) -> 91.82 | X11: 84.05 | Y11: =ROUND(0.9*X11,2) -> 75.65 | Z11: =ROUND(AB11+(X11-AB11)*0.5,2) -> 73.97 | AA11: =ROUND(0.8*X11,2) -> 67.24 | AB11: 63.88 | AC11: =ROUND(AE11+(AB11-AE11)*0.5,2) -> 61.69 | AD11: =ROUND(0.95*AB11,2) -> 60.69 | AE11: 59.5 | AF11: 84.05 | AG11: =ROUND(0.9*AF11,2) -> 75.65
A12: Kinderchristmette | B12: Chorleitung (mit Einsingen) | C12: 1.5 | D12: 99.58 | E12: =ROUND(F12+(D12-F12)*0.5,2) -> 91.82 | F12: 84.05 | G12: =ROUND(0.9*F12,2) -> 75.65 | H12: =ROUND(J12+(F12-J12)*0.5,2) -> 73.97 | I12: =ROUND(0.8*F12,2) -> 67.24 | J12: 63.88 | K12: =ROUND(M12+(J12-M12)*0.5,2) -> 61.69 | L12: =ROUND(0.95*J12,2) -> 60.69 | M12: 59.5 | N12: 84.05 | O12: =ROUND(0.9*N12,2) -> 75.65 | T12: Konzertdauer bis einschl. 90 Minuten + Einsingen/Einspielen | U12: 2 | V12: 132.77 | W12: =ROUND(X12+(V12-X12)*0.5,2) -> 122.42 | X12: 112.07 | Y12: =ROUND(0.9*X12,2) -> 100.86 | Z12: =ROUND(AB12+(X12-AB12)*0.5,2) -> 98.62 | AA12: =ROUND(0.8*X12,2) -> 89.66 | AB12: 85.17 | AC12: =ROUND(AE12+(AB12-AE12)*0.5,2) -> 82.25 | AD12: =ROUND(0.95*AB12,2) -> 80.91 | AE12: 79.33 | AF12: 112.07 | AG12: =ROUND(0.9*AF12,2) -> 100.86
A13: Kinderchristmette | B13: Orgelspiel und Chorleitung (mit Einsingen) | C13: 1.5 | D13: 99.58 | E13: =ROUND(F13+(D13-F13)*0.5,2) -> 91.82 | F13: 84.05 | G13: =ROUND(0.9*F13,2) -> 75.65 | H13: =ROUND(J13+(F13-J13)*0.5,2) -> 73.97 | I13: =ROUND(0.8*F13,2) -> 67.24 | J13: 63.88 | K13: =ROUND(M13+(J13-M13)*0.5,2) -> 61.69 | L13: =ROUND(0.95*J13,2) -> 60.69 | M13: 59.5 | N13: 84.05 | O13: =ROUND(0.9*N13,2) -> 75.65 | T13: Konzertdauer über 90 Minuten + Einsingen/Einspielen | U13: 2.5 | V13: 165.96 | W13: =ROUND(X13+(V13-X13)*0.5,2) -> 153.02 | X13: 140.08 | Y13: =ROUND(0.9*X13,2) -> 126.07 | Z13: =ROUND(AB13+(X13-AB13)*0.5,2) -> 123.27 | AA13: =ROUND(0.8*X13,2) -> 112.06 | AB13: 106.46 | AC13: =ROUND(AE13+(AB13-AE13)*0.5,2) -> 102.82 | AD13: =ROUND(0.95*AB13,2) -> 101.14 | AE13: 99.17 | AF13: 140.08 | AG13: =ROUND(0.9*AF13,2) -> 126.07
A14: Gottesdienst in der Osternacht | B14: Orgelspiel | C14: 2 | D14: 132.77 | E14: =ROUND(F14+(D14-F14)*0.5,2) -> 122.42 | F14: 112.07 | G14: =ROUND(0.9*F14,2) -> 100.86 | H14: =ROUND(J14+(F14-J14)*0.5,2) -> 98.62 | I14: =ROUND(0.8*F14,2) -> 89.66 | J14: 85.17 | K14: =ROUND(M14+(J14-M14)*0.5,2) -> 82.25 | L14: =ROUND(0.95*J14,2) -> 80.91 | M14: 79.33 | N14: 112.07 | O14: =ROUND(0.9*N14,2) -> 100.86 | T14: ='Drop Down'!E14 -> Sonstige vereinbarte Tätigkeit gem. § 12 Abs. 3 Anlage 4f zur AVO | V14: 39.83 | W14: =ROUND(X14+(V14-X14)*0.5,2) -> 36.73 | X14: 33.62 | Y14: =ROUND(0.9*X14,2) -> 30.26 | Z14: =ROUND(AB14+(X14-AB14)*0.5,2) -> 29.59 | AA14: =ROUND(0.8*X14,2) -> 26.9 | AB14: 25.55 | AC14: =ROUND(AE14+(AB14-AE14)*0.5,2) -> 24.68 | AD14: =ROUND(0.95*AB14,2) -> 24.27 | AE14: 23.8 | AF14: 33.62 | AG14: =ROUND(0.9*AF14,2) -> 30.26
A15: Gottesdienst in der Osternacht | B15: Chorleitung (mit Einsingen) | C15: 2.5 | D15: 165.96 | E15: =ROUND(F15+(D15-F15)*0.5,2) -> 153.02 | F15: 140.08 | G15: =ROUND(0.9*F15,2) -> 126.07 | H15: =ROUND(J15+(F15-J15)*0.5,2) -> 123.27 | I15: =ROUND(0.8*F15,2) -> 112.06 | J15: 106.46 | K15: =ROUND(M15+(J15-M15)*0.5,2) -> 102.82 | L15: =ROUND(0.95*J15,2) -> 101.14 | M15: 99.17 | N15: 140.08 | O15: =ROUND(0.9*N15,2) -> 126.07
A16: Gottesdienst in der Osternacht | B16: Orgelspiel und Chorleitung (mit Einsingen) | C16: 2.5 | D16: 165.96 | E16: =ROUND(F16+(D16-F16)*0.5,2) -> 153.02 | F16: 140.08 | G16: =ROUND(0.9*F16,2) -> 126.07 | H16: =ROUND(J16+(F16-J16)*0.5,2) -> 123.27 | I16: =ROUND(0.8*F16,2) -> 112.06 | J16: 106.46 | K16: =ROUND(M16+(J16-M16)*0.5,2) -> 102.82 | L16: =ROUND(0.95*J16,2) -> 101.14 | M16: 99.17 | N16: 140.08 | O16: =ROUND(0.9*N16,2) -> 126.07
A17: Gottesdienst am Gründonnerstag | B17: Orgelspiel | C17: 1 | D17: 66.38 | E17: =ROUND(F17+(D17-F17)*0.5,2) -> 61.21 | F17: 56.03 | G17: =ROUND(0.9*F17,2) -> 50.43 | H17: =ROUND(J17+(F17-J17)*0.5,2) -> 49.31 | I17: =ROUND(0.8*F17,2) -> 44.82 | J17: 42.58 | K17: =ROUND(M17+(J17-M17)*0.5,2) -> 41.13 | L17: =ROUND(0.95*J17,2) -> 40.45 | M17: 39.67 | N17: 56.03 | O17: =ROUND(0.9*N17,2) -> 50.43
A18: Gottesdienst am Gründonnerstag | B18: Chorleitung (mit Einsingen) | C18: 1.5 | D18: 99.58 | E18: =ROUND(F18+(D18-F18)*0.5,2) -> 91.82 | F18: 84.05 | G18: =ROUND(0.9*F18,2) -> 75.65 | H18: =ROUND(J18+(F18-J18)*0.5,2) -> 73.97 | I18: =ROUND(0.8*F18,2) -> 67.24 | J18: 63.88 | K18: =ROUND(M18+(J18-M18)*0.5,2) -> 61.69 | L18: =ROUND(0.95*J18,2) -> 60.69 | M18: 59.5 | N18: 84.05 | O18: =ROUND(0.9*N18,2) -> 75.65
A19: Gottesdienst am Gründonnerstag | B19: Orgelspiel und Chorleitung (mit Einsingen) | C19: 1.5 | D19: 99.58 | E19: =ROUND(F19+(D19-F19)*0.5,2) -> 91.82 | F19: 84.05 | G19: =ROUND(0.9*F19,2) -> 75.65 | H19: =ROUND(J19+(F19-J19)*0.5,2) -> 73.97 | I19: =ROUND(0.8*F19,2) -> 67.24 | J19: 63.88 | K19: =ROUND(M19+(J19-M19)*0.5,2) -> 61.69 | L19: =ROUND(0.95*J19,2) -> 60.69 | M19: 59.5 | N19: 84.05 | O19: =ROUND(0.9*N19,2) -> 75.65
A20: Karfreitagsliturgie | B20: Orgelspiel | C20: 1.5 | D20: 99.58 | E20: =ROUND(F20+(D20-F20)*0.5,2) -> 91.82 | F20: 84.05 | G20: =ROUND(0.9*F20,2) -> 75.65 | H20: =ROUND(J20+(F20-J20)*0.5,2) -> 73.97 | I20: =ROUND(0.8*F20,2) -> 67.24 | J20: 63.88 | K20: =ROUND(M20+(J20-M20)*0.5,2) -> 61.69 | L20: =ROUND(0.95*J20,2) -> 60.69 | M20: 59.5 | N20: 84.05 | O20: =ROUND(0.9*N20,2) -> 75.65
A21: Karfreitagsliturgie | B21: Chorleitung (mit Einsingen) | C21: 2 | D21: 132.77 | E21: =ROUND(F21+(D21-F21)*0.5,2) -> 122.42 | F21: 112.07 | G21: =ROUND(0.9*F21,2) -> 100.86 | H21: =ROUND(J21+(F21-J21)*0.5,2) -> 98.62 | I21: =ROUND(0.8*F21,2) -> 89.66 | J21: 85.17 | K21: =ROUND(M21+(J21-M21)*0.5,2) -> 82.25 | L21: =ROUND(0.95*J21,2) -> 80.91 | M21: 79.33 | N21: 112.07 | O21: =ROUND(0.9*N21,2) -> 100.86
A22: Karfreitagsliturgie | B22: Orgelspiel und Chorleitung (mit Einsingen) | C22: 2 | D22: 132.77 | E22: =ROUND(F22+(D22-F22)*0.5,2) -> 122.42 | F22: 112.07 | G22: =ROUND(0.9*F22,2) -> 100.86 | H22: =ROUND(J22+(F22-J22)*0.5,2) -> 98.62 | I22: =ROUND(0.8*F22,2) -> 89.66 | J22: 85.17 | K22: =ROUND(M22+(J22-M22)*0.5,2) -> 82.25 | L22: =ROUND(0.95*J22,2) -> 80.91 | M22: 79.33 | N22: 112.07 | O22: =ROUND(0.9*N22,2) -> 100.86
A23: Erstkommunionsfeiern | B23: Orgelspiel | C23: 1.5 | D23: 99.58 | E23: =ROUND(F23+(D23-F23)*0.5,2) -> 91.82 | F23: 84.05 | G23: =ROUND(0.9*F23,2) -> 75.65 | H23: =ROUND(J23+(F23-J23)*0.5,2) -> 73.97 | I23: =ROUND(0.8*F23,2) -> 67.24 | J23: 63.88 | K23: =ROUND(M23+(J23-M23)*0.5,2) -> 61.69 | L23: =ROUND(0.95*J23,2) -> 60.69 | M23: 59.5 | N23: 84.05 | O23: =ROUND(0.9*N23,2) -> 75.65
A24: Erstkommunionsfeiern | B24: Chorleitung (mit Einsingen) | C24: 2 | D24: 132.77 | E24: =ROUND(F24+(D24-F24)*0.5,2) -> 122.42 | F24: 112.07 | G24: =ROUND(0.9*F24,2) -> 100.86 | H24: =ROUND(J24+(F24-J24)*0.5,2) -> 98.62 | I24: =ROUND(0.8*F24,2) -> 89.66 | J24: 85.17 | K24: =ROUND(M24+(J24-M24)*0.5,2) -> 82.25 | L24: =ROUND(0.95*J24,2) -> 80.91 | M24: 79.33 | N24: 112.07 | O24: =ROUND(0.9*N24,2) -> 100.86
A25: Erstkommunionsfeiern | B25: Orgelspiel und Chorleitung (mit Einsingen) | C25: 2 | D25: 132.77 | E25: =ROUND(F25+(D25-F25)*0.5,2) -> 122.42 | F25: 112.07 | G25: =ROUND(0.9*F25,2) -> 100.86 | H25: =ROUND(J25+(F25-J25)*0.5,2) -> 98.62 | I25: =ROUND(0.8*F25,2) -> 89.66 | J25: 85.17 | K25: =ROUND(M25+(J25-M25)*0.5,2) -> 82.25 | L25: =ROUND(0.95*J25,2) -> 80.91 | M25: 79.33 | N25: 112.07 | O25: =ROUND(0.9*N25,2) -> 100.86
A26: Firmungen | B26: Orgelspiel | C26: 2 | D26: 132.77 | E26: =ROUND(F26+(D26-F26)*0.5,2) -> 122.42 | F26: 112.07 | G26: =ROUND(0.9*F26,2) -> 100.86 | H26: =ROUND(J26+(F26-J26)*0.5,2) -> 98.62 | I26: =ROUND(0.8*F26,2) -> 89.66 | J26: 85.17 | K26: =ROUND(M26+(J26-M26)*0.5,2) -> 82.25 | L26: =ROUND(0.95*J26,2) -> 80.91 | M26: 79.33 | N26: 112.07 | O26: =ROUND(0.9*N26,2) -> 100.86
... A43: Andachten (bis einschl. 60min) | B43: Orgelspiel und Chorleitung (mit Einsingen) | C43: 1.5 | D43: 99.58 | E43: =ROUND(F43+(D43-F43)*0.5,2) -> 91.82 | F43: 84.05 | G43: =ROUND(0.9*F43,2) -> 75.65 | H43: =ROUND(J43+(F43-J43)*0.5,2) -> 73.97 | I43: =ROUND(0.8*F43,2) -> 67.24 | J43: 63.88 | K43: =ROUND(M43+(J43-M43)*0.5,2) -> 61.69 | L43: =ROUND(0.95*J43,2) -> 60.69 | M43: 59.5 | N43: 84.05 | O43: =ROUND(0.9*N43,2) -> 75.65

Sheet Drop Down
A1: Gottesdienst | C1: Tätigkeiten | E1: sonstige Tätigkeiten | G1: Qualifikation | I1: Arbeitgeber | K1: Auftraggeber | M1: GKG | O1: Fonds
A2: Gottesdienste an Sonntagen (einschl. Vorabend) und Feiertagen | C2: Orgelspiel | E2: Chorprobe/Ensembleprobe bis einschl. 60 min | G2: A | I2: Acher-Renchtal | K2: Römisch-katholische Kirchengemeinde | O2: Lindenberg
A3: Werktagsgottesdienst | C3: Chorleitung (mit Einsingen) | E3: Chorprobe/Ensembleprobe bis einschl. 90 min | G3: B | I3: An der Elz | K3: Erzdiözese Freiburg
A4: Christmette | C4: Orgelspiel und Chorleitung (mit Einsingen) | E4: Chorprobe/Ensembleprobe bis einschl. 120 min | G4: 90%B | I4: An der Wutach | K4: Kapellenfond Lindenberg
A5: Kinderchristmette | E5: Chorprobe mit Kinder- und Jugendchor bis einschl. 60 min | G5: 80%B | I5: An Tauber und Main
A6: Gottesdienst in der Osternacht | E6: Chorprobe mit Kinder- und Jugendchor bis einschl. 90 min | G6: C | I6: Baden-Baden
A7: Gottesdienst am Gründonnerstag | E7: Prozession mit Chorgesang bis einschl. 60 min | G7: 95%C | I7: Bauland-Odenwald
A8: Karfreitagsliturgie | E8: Prozession mit Chorgesang bis einschl. 90 min | G8: D | I8: Bodensee-Hegau
A9: Erstkommunionsfeiern | E9: Unterricht bis einschl. 30 min | G9: B+50% (Besitzstand gem. § 16 Abs. 2 Anlage 4f zur AVO) | I9: Breisgau-Markgräflerland
A10: Firmungen | E10: Unterricht bis einschl. 60 min | G10: C+50% (Besitzstand gem. § 16 Abs. 2 Anlage 4f zur AVO) | I10: Edith Stein Bruchsal
A11: Tauffeiern | E11: Konzertdauer bis einschl. 60 Minuten + Einsingen/Einspielen | G11: D+50% (Besitzstand gem. § 16 Abs. 2 Anlage 4f zur AVO) | I11: Freiburg im Breisgau
A12: Trauungen | E12: Konzertdauer bis einschl. 90 Minuten + Einsingen/Einspielen | G12: B (Besitzstand gem. § 16 Abs. 1 Anlage 4f zur AVO) | I12: Hegau
A13: Seelenamt + Aussegnung bzw. Trauerfeier + Aussegnung | E13: Konzertdauer über 90 Minuten + Einsingen/Einspielen | G13: 90%B (Besitzstand nach § 16 Abs. 2 Anlage 4f zur AVO) | I13: Heidelberg
A14: Andachten (bis einschl. 30min) | E14: Sonstige vereinbarte Tätigkeit gem. § 12 Abs. 3 Anlage 4f zur AVO | I14: Herz Jesu Pforzheim
A15: Andachten (bis einschl. 60min) | I15: Hl. Dreifaltigkeit Donaueschingen
I16: Hochrhein-Südschwarzwald
I17: Hochschwarzwald
I18: Im Quellenland
I19: Karlsruhe
I20: Kinzigtal
I21: Konstanz
I22: Kraichgau
I23: Lauda
I24: Linzgau-Bodensee
I25: Mannheim
I26: Mittlere Kurpfalz
I27: Mittlere Ortenau
... I37: Zollern
